BEGIN:VCALENDAR
VERSION:2.0
PRODID:-//ROSS - ECPv6.15.14//NONSGML v1.0//EN
CALSCALE:GREGORIAN
METHOD:PUBLISH
X-ORIGINAL-URL:https://www.rossngo.org
X-WR-CALDESC:Events for ROSS
REFRESH-INTERVAL;VALUE=DURATION:PT1H
X-Robots-Tag:noindex
X-PUBLISHED-TTL:PT1H
BEGIN:VTIMEZONE
TZID:Asia/Kolkata
BEGIN:STANDARD
TZOFFSETFROM:+0530
TZOFFSETTO:+0530
TZNAME:IST
DTSTART:20240101T000000
END:STANDARD
END:VTIMEZONE
BEGIN:VEVENT
DTSTART;TZID=Asia/Kolkata:20250418T110000
DTEND;TZID=Asia/Kolkata:20250418T110000
DTSTAMP:20260421T192538
CREATED:20250320T181819Z
LAST-MODIFIED:20250402T065119Z
UID:1538-1744974000-1744974000@www.rossngo.org
SUMMARY:Mental Health for All: Free Treatment & Awareness Drive
DESCRIPTION:Mental health is essential for overall well-being\, yet many individuals suffering from mental illness\, stress\, and disorders struggle to access proper care. ROSS\, in collaboration with Tezpur Lokopriya Gopinath Bordoloi Regional Institute of Mental Health\, is launching a free mental health campaign to provide essential treatment\, medicines\, and support to those in need. \nCampaign Details\nDate: Every Third Friday of the Month\nTime: 11:00 AM Onwards\nLocation: Rural Organisation for Social Service (ROSS)\, Tangla
URL:https://www.rossngo.org/event/mental-health-for-all/
LOCATION:ROSS Office\, Rural Organisation for Social Service (ROSS) Tangla
ATTACH;FMTTYPE=image/jpeg:https://www.rossngo.org/wp-content/uploads/2025/01/232354465.jpg
END:VEVENT
END:VCALENDAR